BEGIN:VCALENDAR
VERSION:2.0
PRODID:-//jcrbajc.org//NONSGML kigkonsult.se iCalcreator 2.30.10//
CALSCALE:GREGORIAN
METHOD:PUBLISH
UID:882020b5-f270-476d-922f-6a3b4bc95fb5
X-WR-CALDESC:Join Lord John Mann\, the United Kingdom Government’s Independ
 ent Adviser on Antisemitism and the former head of the All-Party Parliamen
 tary Group Against Antisemitism\, for a wide-ranging discussion on rising 
 antisemitism in the UK and the government’s attempts to combat it. Lord Ma
 nn resigned from the Labour Party back in 2019 after 18 years in Parliamen
 t in protest over former leader Jeremy Corbyn's normalizing antisemitism w
 ithin the party. In May 2009\, Lord Mann received AJC’s prestigious Jan Ka
 rski Award in recognition of his commitment to fighting antisemitism.
X-WR-RELCALID:3886a15b1336b48a056dbcfcd3c08c5c
X-WR-TIMEZONE:America/Chicago
BEGIN:VTIMEZONE
TZID:America/Chicago
BEGIN:STANDARD
TZNAME:CST
DTSTART:20191103T020000
TZOFFSETFROM:-0500
TZOFFSETTO:-0600
RDATE:20201101T020000
RDATE:20211107T020000
END:STANDARD
BEGIN:DAYLIGHT
TZNAME:CDT
DTSTART:20200308T020000
TZOFFSETFROM:-0600
TZOFFSETTO:-0500
RDATE:20210314T020000
END:DAYLIGHT
END:VTIMEZONE
BEGIN:VEVENT
UID:753e3b99-a556-4040-8ed3-3875fd131142
DTSTAMP:20260420T140233Z
DESCRIPTION:Join Lord John Mann\, the United Kingdom Government’s Independe
 nt Adviser on Antisemitism and the former head of the All-Party Parliament
 ary Group Against Antisemitism\, for a wide-ranging discussion on rising a
 ntisemitism in the UK and the government’s attempts to combat it. Lord Man
 n resigned from the Labour Party back in 2019 after 18 years in Parliament
  in protest over former leader Jeremy Corbyn's normalizing antisemitism wi
 thin the party. In May 2009\, Lord Mann received AJC’s prestigious Jan Kar
 ski Award in recognition of his commitment to fighting antisemitism.
DTSTART;TZID=America/Chicago:20200806T110000
DTEND;TZID=America/Chicago:20200806T120000
LOCATION:
SUMMARY:The Ongoing Fight Against Antisemitism in the UK: A Conversation wi
 th Lord John Mann
END:VEVENT
END:VCALENDAR
