BEGIN:VCALENDAR
VERSION:2.0
PRODID:-//jcrbajc.org//NONSGML kigkonsult.se iCalcreator 2.30.10//
CALSCALE:GREGORIAN
METHOD:PUBLISH
UID:4d92ac03-59b8-470b-9cdb-8b8cb1b61f83
X-WR-CALDESC:JCRB|AJC and the Rabbinical Association of Greater Kansas City
  will bring interfaith groups of clergy members together to visit the Ausc
 hwitz: Not long ago. Not far away. exhibit at Union Station.\n\nFollowing 
 visiting the exhibit\, groups will gather to reflect on their experience a
 nd to have conversations about contemporary antisemitism.
X-WR-RELCALID:05fc5dc42bd3bdd0332724da34056614
X-WR-TIMEZONE:America/Chicago
BEGIN:VTIMEZONE
TZID:America/Chicago
BEGIN:STANDARD
TZNAME:CST
DTSTART:20211107T020000
TZOFFSETFROM:-0500
TZOFFSETTO:-0600
RDATE:20221106T020000
END:STANDARD
BEGIN:DAYLIGHT
TZNAME:CDT
DTSTART:20210314T020000
TZOFFSETFROM:-0600
TZOFFSETTO:-0500
RDATE:20220313T020000
RDATE:20230312T020000
END:DAYLIGHT
END:VTIMEZONE
BEGIN:VEVENT
UID:09597faf-67bd-4766-95b0-5ddfb1dbbd22
DTSTAMP:20260422T221401Z
DESCRIPTION:JCRB|AJC and the Rabbinical Association of Greater Kansas City 
 will bring interfaith groups of clergy members together to visit the Ausch
 witz: Not long ago. Not far away. exhibit at Union Station.\n\nFollowing v
 isiting the exhibit\, groups will gather to reflect on their experience an
 d to have conversations about contemporary antisemitism.
DTSTART;TZID=America/Chicago:20211108T090000
DTEND;TZID=America/Chicago:20211108T120000
LOCATION:
SUMMARY:Clergy Conversations
END:VEVENT
END:VCALENDAR
