BEGIN:VCALENDAR
VERSION:2.0
PRODID:-//jcrbajc.org//NONSGML kigkonsult.se iCalcreator 2.30.10//
CALSCALE:GREGORIAN
METHOD:PUBLISH
UID:44377373-4b25-4a0f-9fbd-d445e2466962
X-WR-CALDESC:JCRB|AJC office will be closed in observance of Sukkot\, 2023.
X-WR-RELCALID:6383184c0f475c8146ac550aae1e5dd1
X-WR-TIMEZONE:America/Chicago
BEGIN:VTIMEZONE
TZID:America/Chicago
BEGIN:STANDARD
TZNAME:CST
DTSTART:20221106T020000
TZOFFSETFROM:-0500
TZOFFSETTO:-0600
RDATE:20231105T020000
RDATE:20241103T020000
END:STANDARD
BEGIN:DAYLIGHT
TZNAME:CDT
DTSTART:20230312T020000
TZOFFSETFROM:-0600
TZOFFSETTO:-0500
RDATE:20240310T020000
RDATE:20250309T020000
END:DAYLIGHT
END:VTIMEZONE
BEGIN:VEVENT
UID:7f2e6fb2-c19a-49e9-86dd-3f0ed58926b8
DTSTAMP:20260425T004533Z
DESCRIPTION:JCRB|AJC office will be closed in observance of Sukkot\, 2023.
DTSTART;TZID=America/Chicago:20231006T000000
DTEND;TZID=America/Chicago:20231006T235900
LOCATION:
SUMMARY:JCRB|AJC Office Closed
END:VEVENT
END:VCALENDAR
