BEGIN:VCALENDAR
VERSION:2.0
PRODID:-//jcrbajc.org//NONSGML kigkonsult.se iCalcreator 2.30.10//
CALSCALE:GREGORIAN
METHOD:PUBLISH
UID:6e6d4567-c708-45cc-8b0e-41ffdc4d28d0
X-WR-CALDESC:This is the most holy day in the Jewish year. It is devoted to
  fasting and prayer\, as people ask G-d and each other for forgiveness.
X-WR-RELCALID:eb34bc22c88059cef23e60f03f29f036
X-WR-TIMEZONE:America/Chicago
BEGIN:VTIMEZONE
TZID:America/Chicago
BEGIN:STANDARD
TZNAME:CST
DTSTART:20231105T020000
TZOFFSETFROM:-0500
TZOFFSETTO:-0600
RDATE:20241103T020000
RDATE:20251102T020000
END:STANDARD
BEGIN:DAYLIGHT
TZNAME:CDT
DTSTART:20240310T020000
TZOFFSETFROM:-0600
TZOFFSETTO:-0500
RDATE:20250309T020000
RDATE:20260308T020000
END:DAYLIGHT
END:VTIMEZONE
BEGIN:VEVENT
UID:388020c5-3eeb-4a7d-9373-ab6e4ea2fe05
DTSTAMP:20260425T040307Z
DESCRIPTION:This is the most holy day in the Jewish year. It is devoted to 
 fasting and prayer\, as people ask G-d and each other for forgiveness.
DTSTART;TZID=America/Chicago:20241011T184400
DTEND;TZID=America/Chicago:20241012T184300
LOCATION:
SUMMARY:Yom Kippur
END:VEVENT
END:VCALENDAR
