BEGIN:VCALENDAR
VERSION:2.0
PRODID:-//jcrbajc.org//NONSGML kigkonsult.se iCalcreator 2.30.10//
CALSCALE:GREGORIAN
METHOD:PUBLISH
UID:55b29668-c4f7-4354-b39e-e98e46f852a7
X-WR-CALDESC:A joyous festival commemorating the time when the Jews of anci
 ent Persia were saved from extermination through the intervention of Queen
  Esther.
X-WR-RELCALID:b46ad56ec7a4791d6665275b70ff476e
X-WR-TIMEZONE:America/Chicago
BEGIN:VTIMEZONE
TZID:America/Chicago
BEGIN:STANDARD
TZNAME:CST
DTSTART:20241103T020000
TZOFFSETFROM:-0500
TZOFFSETTO:-0600
RDATE:20251102T020000
END:STANDARD
BEGIN:DAYLIGHT
TZNAME:CDT
DTSTART:20250309T020000
TZOFFSETFROM:-0600
TZOFFSETTO:-0500
RDATE:20260308T020000
END:DAYLIGHT
END:VTIMEZONE
BEGIN:VEVENT
UID:169f9f6a-64ae-48d4-a125-bd743762bad4
DTSTAMP:20260425T213529Z
DESCRIPTION:A joyous festival commemorating the time when the Jews of ancie
 nt Persia were saved from extermination through the intervention of Queen 
 Esther.
DTSTART;TZID=America/Chicago:20250313T192300
DTEND;TZID=America/Chicago:20250314T192400
LOCATION:
SUMMARY:Purim
END:VEVENT
END:VCALENDAR
