BEGIN:VCALENDAR
VERSION:2.0
PRODID:-//jcrbajc.org//NONSGML kigkonsult.se iCalcreator 2.30.10//
CALSCALE:GREGORIAN
METHOD:PUBLISH
UID:ec87e085-73ae-4595-934b-78eb1b736f15
X-WR-CALDESC:Passover is an eight day holiday that commemorates the emancip
 ation of the Israelites from slavery in ancient Egypt. Passover is observe
 d by avoiding leaven\, and highlighted by the Seder meals that include fou
 r cups of wine\, eating matzah and bitter herbs\, and retelling the story 
 of the Exodus.
X-WR-RELCALID:6385fe3ce232db30e35201019c9ed6e5
X-WR-TIMEZONE:America/Chicago
BEGIN:VTIMEZONE
TZID:America/Chicago
BEGIN:STANDARD
TZNAME:CST
DTSTART:20241103T020000
TZOFFSETFROM:-0500
TZOFFSETTO:-0600
RDATE:20251102T020000
END:STANDARD
BEGIN:DAYLIGHT
TZNAME:CDT
DTSTART:20250309T020000
TZOFFSETFROM:-0600
TZOFFSETTO:-0500
RDATE:20260308T020000
END:DAYLIGHT
END:VTIMEZONE
BEGIN:VEVENT
UID:039da508-1095-49d7-96a4-e2cf03a5c7fb
DTSTAMP:20260425T201252Z
DESCRIPTION:Passover is an eight day holiday that commemorates the emancipa
 tion of the Israelites from slavery in ancient Egypt. Passover is observed
  by avoiding leaven\, and highlighted by the Seder meals that include four
  cups of wine\, eating matzah and bitter herbs\, and retelling the story o
 f the Exodus.
DTSTART;TZID=America/Chicago:20250412T195200
DTEND;TZID=America/Chicago:20250420T200000
LOCATION:
SUMMARY:Passover
END:VEVENT
END:VCALENDAR
