BEGIN:VCALENDAR
VERSION:2.0
PRODID:-//jcrbajc.org//NONSGML kigkonsult.se iCalcreator 2.30.10//
CALSCALE:GREGORIAN
METHOD:PUBLISH
UID:163139dd-89b9-4660-80f7-d7a5b9e2d0ca
X-WR-CALDESC:The last two days of Passover conclude the celebration of Pass
 over.
X-WR-RELCALID:47c888894df4e88d90a4a8e7e3121d97
X-WR-TIMEZONE:America/Chicago
BEGIN:VTIMEZONE
TZID:America/Chicago
BEGIN:STANDARD
TZNAME:CST
DTSTART:20241103T020000
TZOFFSETFROM:-0500
TZOFFSETTO:-0600
RDATE:20251102T020000
END:STANDARD
BEGIN:DAYLIGHT
TZNAME:CDT
DTSTART:20250309T020000
TZOFFSETFROM:-0600
TZOFFSETTO:-0500
RDATE:20260308T020000
END:DAYLIGHT
END:VTIMEZONE
BEGIN:VEVENT
UID:08a216be-df81-4cb4-805f-b0d5a1e0581e
DTSTAMP:20260425T200920Z
DESCRIPTION:The last two days of Passover conclude the celebration of Passo
 ver.
DTSTART;TZID=America/Chicago:20250418T195800
DTEND;TZID=America/Chicago:20250420T200000
LOCATION:
SUMMARY:Passover (last two days)
END:VEVENT
END:VCALENDAR
