BEGIN:VCALENDAR
VERSION:2.0
PRODID:-//jcrbajc.org//NONSGML kigkonsult.se iCalcreator 2.30.10//
CALSCALE:GREGORIAN
METHOD:PUBLISH
UID:6c9fe897-1a38-437f-a190-934b72944f6d
X-WR-CALDESC:Shavuot celebrates the covenant established at Mount Sinai bet
 ween G-d and Israel\, and the revelation of the Ten Commandments.
X-WR-RELCALID:12cd125165a61cbb9fbbdc7847833ea6
X-WR-TIMEZONE:America/Chicago
BEGIN:VTIMEZONE
TZID:America/Chicago
BEGIN:STANDARD
TZNAME:CST
DTSTART:20241103T020000
TZOFFSETFROM:-0500
TZOFFSETTO:-0600
RDATE:20251102T020000
RDATE:20261101T020000
END:STANDARD
BEGIN:DAYLIGHT
TZNAME:CDT
DTSTART:20250309T020000
TZOFFSETFROM:-0600
TZOFFSETTO:-0500
RDATE:20260308T020000
END:DAYLIGHT
END:VTIMEZONE
BEGIN:VEVENT
UID:4fbfbfff-40cb-4302-a68f-6f86c5944f3d
DTSTAMP:20260425T172946Z
DESCRIPTION:Shavuot celebrates the covenant established at Mount Sinai betw
 een G-d and Israel\, and the revelation of the Ten Commandments.
DTSTART;TZID=America/Chicago:20250601T203800
DTEND;TZID=America/Chicago:20250603T203900
LOCATION:
SUMMARY:Shavuot
END:VEVENT
END:VCALENDAR
