BEGIN:VCALENDAR
VERSION:2.0
PRODID:-//jcrbajc.org//NONSGML kigkonsult.se iCalcreator 2.30.10//
CALSCALE:GREGORIAN
METHOD:PUBLISH
UID:07aa28c8-1e14-4fec-9084-fc59bb0284f4
X-WR-CALDESC:Tisha B’Av is the major day of communal mourning in the Jewish
  calendar commemorating the destruction of the First and Second Temples in
  Jerusalem.
X-WR-RELCALID:802f20142834cfabbe52dc6cea0f475d
X-WR-TIMEZONE:America/Chicago
BEGIN:VTIMEZONE
TZID:America/Chicago
BEGIN:STANDARD
TZNAME:CST
DTSTART:20241103T020000
TZOFFSETFROM:-0500
TZOFFSETTO:-0600
RDATE:20251102T020000
RDATE:20261101T020000
END:STANDARD
BEGIN:DAYLIGHT
TZNAME:CDT
DTSTART:20250309T020000
TZOFFSETFROM:-0600
TZOFFSETTO:-0500
RDATE:20260308T020000
END:DAYLIGHT
END:VTIMEZONE
BEGIN:VEVENT
UID:39d3e5ef-9eec-4770-b041-6eb4567e6a3d
DTSTAMP:20260425T145834Z
DESCRIPTION:Tisha B’Av is the major day of communal mourning in the Jewish 
 calendar commemorating the destruction of the First and Second Temples in 
 Jerusalem.
DTSTART;TZID=America/Chicago:20250802T082800
DTEND;TZID=America/Chicago:20250803T202700
LOCATION:
SUMMARY:Tisha B'Av
END:VEVENT
END:VCALENDAR
