BEGIN:VCALENDAR
VERSION:2.0
PRODID:-//jcrbajc.org//NONSGML kigkonsult.se iCalcreator 2.30.10//
CALSCALE:GREGORIAN
METHOD:PUBLISH
UID:3027f8ce-3a4a-4d11-b5dc-96317b04a6c7
X-WR-CALDESC:The beginning of the Jewish year. It is the first of the High 
 Holy Days and marks the start of the ten-day period of penitence and spiri
 tual renewal.
X-WR-RELCALID:2e5de133feaccfcbe90405014ad5b30e
X-WR-TIMEZONE:America/Chicago
BEGIN:VTIMEZONE
TZID:America/Chicago
BEGIN:STANDARD
TZNAME:CST
DTSTART:20241103T020000
TZOFFSETFROM:-0500
TZOFFSETTO:-0600
RDATE:20251102T020000
RDATE:20261101T020000
END:STANDARD
BEGIN:DAYLIGHT
TZNAME:CDT
DTSTART:20250309T020000
TZOFFSETFROM:-0600
TZOFFSETTO:-0500
RDATE:20260308T020000
END:DAYLIGHT
END:VTIMEZONE
BEGIN:VEVENT
UID:bc52a561-3353-45c0-8db4-b3b5578b2ea2
DTSTAMP:20260425T152018Z
DESCRIPTION:The beginning of the Jewish year. It is the first of the High H
 oly Days and marks the start of the ten-day period of penitence and spirit
 ual renewal.
DTSTART;TZID=America/Chicago:20250822T191400
DTEND;TZID=America/Chicago:20250824T191100
LOCATION:
SUMMARY:Rosh Hashanah
END:VEVENT
END:VCALENDAR
