BEGIN:VCALENDAR
VERSION:2.0
PRODID:-//jcrbajc.org//NONSGML kigkonsult.se iCalcreator 2.30.10//
CALSCALE:GREGORIAN
METHOD:PUBLISH
UID:1d80e466-0eca-4fc6-9223-60eb05aae064
X-WR-CALDESC:This is the most holy day in the Jewish year. It is devoted to
  fasting and prayer\, as people ask G-d and each other for forgiveness.
X-WR-RELCALID:c33f99f04d388e717f431325c7b4c400
X-WR-TIMEZONE:America/Chicago
BEGIN:VTIMEZONE
TZID:America/Chicago
BEGIN:STANDARD
TZNAME:CST
DTSTART:20241103T020000
TZOFFSETFROM:-0500
TZOFFSETTO:-0600
RDATE:20251102T020000
RDATE:20261101T020000
END:STANDARD
BEGIN:DAYLIGHT
TZNAME:CDT
DTSTART:20250309T020000
TZOFFSETFROM:-0600
TZOFFSETTO:-0500
RDATE:20260308T020000
RDATE:20270314T020000
END:DAYLIGHT
END:VTIMEZONE
BEGIN:VEVENT
UID:479eaa9c-74b8-4e07-88e2-4ed5e7ab159c
DTSTAMP:20260425T115405Z
DESCRIPTION:This is the most holy day in the Jewish year. It is devoted to 
 fasting and prayer\, as people ask G-d and each other for forgiveness.
DTSTART;TZID=America/Chicago:20251001T190000
DTEND;TZID=America/Chicago:20251002T185800
LOCATION:
SUMMARY:Yom Kippur
END:VEVENT
END:VCALENDAR
