BEGIN:VCALENDAR
VERSION:2.0
PRODID:-//jcrbajc.org//NONSGML kigkonsult.se iCalcreator 2.30.10//
CALSCALE:GREGORIAN
METHOD:PUBLISH
UID:d55d0561-4651-41c0-b1b9-dbb1df1661a3
X-WR-CALDESC:Sukkot is the Jewish festival of thanksgiving and harvest.
X-WR-RELCALID:cc1b0c167f777a3cc8a1b2fd49ef6c59
X-WR-TIMEZONE:America/Chicago
BEGIN:VTIMEZONE
TZID:America/Chicago
BEGIN:STANDARD
TZNAME:CST
DTSTART:20241103T020000
TZOFFSETFROM:-0500
TZOFFSETTO:-0600
RDATE:20251102T020000
RDATE:20261101T020000
END:STANDARD
BEGIN:DAYLIGHT
TZNAME:CDT
DTSTART:20250309T020000
TZOFFSETFROM:-0600
TZOFFSETTO:-0500
RDATE:20260308T020000
RDATE:20270314T020000
END:DAYLIGHT
END:VTIMEZONE
BEGIN:VEVENT
UID:a8b7bc4b-37d5-426c-b147-b8d37013337b
DTSTAMP:20260425T115641Z
DESCRIPTION:Sukkot is the Jewish festival of thanksgiving and harvest.
DTSTART;TZID=America/Chicago:20251006T185800
DTEND;TZID=America/Chicago:20251008T185200
LOCATION:
SUMMARY:Sukkot (first two days)
END:VEVENT
END:VCALENDAR
