BEGIN:VCALENDAR
VERSION:2.0
PRODID:-//jcrbajc.org//NONSGML kigkonsult.se iCalcreator 2.30.10//
CALSCALE:GREGORIAN
METHOD:PUBLISH
UID:7286bbac-cb92-4258-80ba-49745f4037e8
X-WR-CALDESC:Shemini Atzeret is the eighth day of Sukkot\, on which special
  memorial prayers are said.
X-WR-RELCALID:6c2f241a9b21abf23d10395989a83225
X-WR-TIMEZONE:America/Chicago
BEGIN:VTIMEZONE
TZID:America/Chicago
BEGIN:STANDARD
TZNAME:CST
DTSTART:20241103T020000
TZOFFSETFROM:-0500
TZOFFSETTO:-0600
RDATE:20251102T020000
RDATE:20261101T020000
END:STANDARD
BEGIN:DAYLIGHT
TZNAME:CDT
DTSTART:20250309T020000
TZOFFSETFROM:-0600
TZOFFSETTO:-0500
RDATE:20260308T020000
RDATE:20270314T020000
END:DAYLIGHT
END:VTIMEZONE
BEGIN:VEVENT
UID:1e472f17-1595-4d12-8c50-58d67855babc
DTSTAMP:20260425T115405Z
DESCRIPTION:Shemini Atzeret is the eighth day of Sukkot\, on which special 
 memorial prayers are said.
DTSTART;TZID=America/Chicago:20251013T184200
DTEND;TZID=America/Chicago:20251014T184000
LOCATION:
SUMMARY:Shmini Atzeret
END:VEVENT
END:VCALENDAR
