BEGIN:VCALENDAR
VERSION:2.0
PRODID:-//jcrbajc.org//NONSGML kigkonsult.se iCalcreator 2.30.10//
CALSCALE:GREGORIAN
METHOD:PUBLISH
UID:1525f801-e1ac-494b-8c18-ac86ed620413
X-WR-CALDESC:Simchat Torah celebrates the conclusion of the yearly cycle of
  reading the Five Books of Moses and its beginning anew\, thus demonstrati
 ng that study is a never-ending process.
X-WR-RELCALID:d62114f2fcbe4a66cebf597ac470a924
X-WR-TIMEZONE:America/Chicago
BEGIN:VTIMEZONE
TZID:America/Chicago
BEGIN:STANDARD
TZNAME:CST
DTSTART:20241103T020000
TZOFFSETFROM:-0500
TZOFFSETTO:-0600
RDATE:20251102T020000
RDATE:20261101T020000
END:STANDARD
BEGIN:DAYLIGHT
TZNAME:CDT
DTSTART:20250309T020000
TZOFFSETFROM:-0600
TZOFFSETTO:-0500
RDATE:20260308T020000
RDATE:20270314T020000
END:DAYLIGHT
END:VTIMEZONE
BEGIN:VEVENT
UID:325d749d-1ff5-411a-a56b-726293a66964
DTSTAMP:20260425T114921Z
DESCRIPTION:Simchat Torah celebrates the conclusion of the yearly cycle of 
 reading the Five Books of Moses and its beginning anew\, thus demonstratin
 g that study is a never-ending process.
DTSTART;TZID=America/Chicago:20251014T184000
DTEND;TZID=America/Chicago:20251015T183900
LOCATION:
SUMMARY:Simchat Torah
END:VEVENT
END:VCALENDAR
