BEGIN:VCALENDAR
VERSION:2.0
PRODID:-//jcrbajc.org//NONSGML kigkonsult.se iCalcreator 2.30.10//
CALSCALE:GREGORIAN
METHOD:PUBLISH
UID:94527e1d-8e33-464d-a24a-ed8a08c58bbd
X-WR-CALDESC:Passover is an eight day holiday that commemorates the emancip
 ation of the Israelites from slavery in ancient Egypt. Passover is observe
 d by avoiding leaven\, and highlighted by the Seder meals that include fou
 r cups of wine\, eating matzah and bitter herbs\, and retelling the story 
 of the Exodus.
X-WR-RELCALID:18f3f8ad83dd865b2d369678f8fd54af
X-WR-TIMEZONE:America/Chicago
BEGIN:VTIMEZONE
TZID:America/Chicago
BEGIN:STANDARD
TZNAME:CST
DTSTART:20251102T020000
TZOFFSETFROM:-0500
TZOFFSETTO:-0600
RDATE:20261101T020000
END:STANDARD
BEGIN:DAYLIGHT
TZNAME:CDT
DTSTART:20260308T020000
TZOFFSETFROM:-0600
TZOFFSETTO:-0500
RDATE:20270314T020000
END:DAYLIGHT
END:VTIMEZONE
BEGIN:VEVENT
UID:b3bd6b47-7d46-4894-bc7e-86bfd8d7d78c
DTSTAMP:20260425T032518Z
DESCRIPTION:Passover is an eight day holiday that commemorates the emancipa
 tion of the Israelites from slavery in ancient Egypt. Passover is observed
  by avoiding leaven\, and highlighted by the Seder meals that include four
  cups of wine\, eating matzah and bitter herbs\, and retelling the story o
 f the Exodus.
DTSTART;TZID=America/Chicago:20260401T194200
DTEND;TZID=America/Chicago:20260409T194900
LOCATION:
SUMMARY:Passover
END:VEVENT
END:VCALENDAR
