BEGIN:VCALENDAR
VERSION:2.0
PRODID:-//jcrbajc.org//NONSGML kigkonsult.se iCalcreator 2.30.10//
CALSCALE:GREGORIAN
METHOD:PUBLISH
UID:819fcb6f-c77f-44e8-ab05-099fe314dbee
X-WR-CALDESC:The last two days of Passover conclude the celebration of Pass
 over.
X-WR-RELCALID:53e41236eb741eb88d79e2bb083c8562
X-WR-TIMEZONE:America/Chicago
BEGIN:VTIMEZONE
TZID:America/Chicago
BEGIN:STANDARD
TZNAME:CST
DTSTART:20251102T020000
TZOFFSETFROM:-0500
TZOFFSETTO:-0600
RDATE:20261101T020000
END:STANDARD
BEGIN:DAYLIGHT
TZNAME:CDT
DTSTART:20260308T020000
TZOFFSETFROM:-0600
TZOFFSETTO:-0500
RDATE:20270314T020000
END:DAYLIGHT
END:VTIMEZONE
BEGIN:VEVENT
UID:b33c2a10-4bdc-4d39-b80d-99718826ceb5
DTSTAMP:20260425T033149Z
DESCRIPTION:The last two days of Passover conclude the celebration of Passo
 ver.
DTSTART;TZID=America/Chicago:20260407T194700
DTEND;TZID=America/Chicago:20260409T194900
LOCATION:
SUMMARY:Passover (last two days)
END:VEVENT
END:VCALENDAR
