BEGIN:VCALENDAR
VERSION:2.0
PRODID:-//jcrbajc.org//NONSGML kigkonsult.se iCalcreator 2.30.10//
CALSCALE:GREGORIAN
METHOD:PUBLISH
UID:1c772a6d-6f64-47fa-a309-0a78bb6050ca
X-WR-CALDESC:The beginning of the Jewish year. It is the first of the High 
 Holy Days and marks the start of the ten-day period of penitence and spiri
 tual renewal.
X-WR-RELCALID:051fee321334d1b0924f9f4bd844e6be
X-WR-TIMEZONE:America/Chicago
BEGIN:VTIMEZONE
TZID:America/Chicago
BEGIN:STANDARD
TZNAME:CST
DTSTART:20251102T020000
TZOFFSETFROM:-0500
TZOFFSETTO:-0600
RDATE:20261101T020000
RDATE:20271107T020000
END:STANDARD
BEGIN:DAYLIGHT
TZNAME:CDT
DTSTART:20260308T020000
TZOFFSETFROM:-0600
TZOFFSETTO:-0500
RDATE:20270314T020000
RDATE:20280312T020000
END:DAYLIGHT
END:VTIMEZONE
BEGIN:VEVENT
UID:f63c5092-a151-48d4-9768-b662f0bf6c03
DTSTAMP:20260425T102612Z
DESCRIPTION:The beginning of the Jewish year. It is the first of the High H
 oly Days and marks the start of the ten-day period of penitence and spirit
 ual renewal.
DTSTART;TZID=America/Chicago:20260911T193200
DTEND;TZID=America/Chicago:20260913T192900
LOCATION:
SUMMARY:Rosh Hashanah
END:VEVENT
END:VCALENDAR
