BEGIN:VCALENDAR
VERSION:2.0
PRODID:-//jcrbajc.org//NONSGML kigkonsult.se iCalcreator 2.30.10//
CALSCALE:GREGORIAN
METHOD:PUBLISH
UID:dff7d7f8-89d3-4dfa-8fcc-4c088506b941
X-WR-CALDESC:This is the most holy day in the Jewish year. It is devoted to
  fasting and prayer\, as people ask G-d and each other for forgiveness.
X-WR-RELCALID:68eab68f6519c16f9f1f88920ed37892
X-WR-TIMEZONE:America/Chicago
BEGIN:VTIMEZONE
TZID:America/Chicago
BEGIN:STANDARD
TZNAME:CST
DTSTART:20251102T020000
TZOFFSETFROM:-0500
TZOFFSETTO:-0600
RDATE:20261101T020000
RDATE:20271107T020000
END:STANDARD
BEGIN:DAYLIGHT
TZNAME:CDT
DTSTART:20260308T020000
TZOFFSETFROM:-0600
TZOFFSETTO:-0500
RDATE:20270314T020000
RDATE:20280312T020000
END:DAYLIGHT
END:VTIMEZONE
BEGIN:VEVENT
UID:e10afca4-8ca9-40fa-bfab-c9e07236d50b
DTSTAMP:20260425T102644Z
DESCRIPTION:This is the most holy day in the Jewish year. It is devoted to 
 fasting and prayer\, as people ask G-d and each other for forgiveness.
DTSTART;TZID=America/Chicago:20260920T191800
DTEND;TZID=America/Chicago:20260921T191600
LOCATION:
SUMMARY:Yom Kippur
END:VEVENT
END:VCALENDAR
