BEGIN:VCALENDAR
VERSION:2.0
PRODID:-//jcrbajc.org//NONSGML kigkonsult.se iCalcreator 2.30.10//
CALSCALE:GREGORIAN
METHOD:PUBLISH
UID:488c7d57-e9a9-48d6-b3c0-f2df27547830
X-WR-CALDESC:Sukkot is the Jewish festival of thanksgiving and harvest.
X-WR-RELCALID:99a04b8fd6c120c480954899d67fc9ba
X-WR-TIMEZONE:America/Chicago
BEGIN:VTIMEZONE
TZID:America/Chicago
BEGIN:STANDARD
TZNAME:CST
DTSTART:20251102T020000
TZOFFSETFROM:-0500
TZOFFSETTO:-0600
RDATE:20261101T020000
RDATE:20271107T020000
END:STANDARD
BEGIN:DAYLIGHT
TZNAME:CDT
DTSTART:20260308T020000
TZOFFSETFROM:-0600
TZOFFSETTO:-0500
RDATE:20270314T020000
RDATE:20280312T020000
END:DAYLIGHT
END:VTIMEZONE
BEGIN:VEVENT
UID:bc2ed5d8-f8f1-4b47-82c5-40dccb2390cd
DTSTAMP:20260425T102811Z
DESCRIPTION:Sukkot is the Jewish festival of thanksgiving and harvest.
DTSTART;TZID=America/Chicago:20260925T191000
DTEND;TZID=America/Chicago:20260927T190700
LOCATION:
SUMMARY:Sukkot (first two days)
END:VEVENT
END:VCALENDAR
