BEGIN:VCALENDAR
VERSION:2.0
PRODID:-//jcrbajc.org//NONSGML kigkonsult.se iCalcreator 2.30.10//
CALSCALE:GREGORIAN
METHOD:PUBLISH
UID:d3b48583-c66b-493d-9002-946ab0a7fdcc
X-WR-CALDESC:Shemini Atzeret is the eighth day of Sukkot\, on which special
  memorial prayers are said.
X-WR-RELCALID:16e9371a2932cd52cd05cd24b29d1d07
X-WR-TIMEZONE:America/Chicago
BEGIN:VTIMEZONE
TZID:America/Chicago
BEGIN:STANDARD
TZNAME:CST
DTSTART:20251102T020000
TZOFFSETFROM:-0500
TZOFFSETTO:-0600
RDATE:20261101T020000
RDATE:20271107T020000
END:STANDARD
BEGIN:DAYLIGHT
TZNAME:CDT
DTSTART:20260308T020000
TZOFFSETFROM:-0600
TZOFFSETTO:-0500
RDATE:20270314T020000
RDATE:20280312T020000
END:DAYLIGHT
END:VTIMEZONE
BEGIN:VEVENT
UID:ca0d6d1e-08bc-4c97-b911-0305c0018eda
DTSTAMP:20260425T115002Z
DESCRIPTION:Shemini Atzeret is the eighth day of Sukkot\, on which special 
 memorial prayers are said.
DTSTART;TZID=America/Chicago:20261002T185900
DTEND;TZID=America/Chicago:20261003T185700
LOCATION:
SUMMARY:Shmini Atzeret
END:VEVENT
END:VCALENDAR
