BEGIN:VCALENDAR
VERSION:2.0
PRODID:-//jcrbajc.org//NONSGML kigkonsult.se iCalcreator 2.30.10//
CALSCALE:GREGORIAN
METHOD:PUBLISH
UID:77d157f2-a87c-4b5a-b6cc-56a05fe5a2c3
X-WR-CALDESC:Simchat Torah celebrates the conclusion of the yearly cycle of
  reading the Five Books of Moses and its beginning anew\, thus demonstrati
 ng that study is a never-ending process.
X-WR-RELCALID:d0de42bfe56e60c4d72ac837eb608cd7
X-WR-TIMEZONE:America/Chicago
BEGIN:VTIMEZONE
TZID:America/Chicago
BEGIN:STANDARD
TZNAME:CST
DTSTART:20251102T020000
TZOFFSETFROM:-0500
TZOFFSETTO:-0600
RDATE:20261101T020000
RDATE:20271107T020000
END:STANDARD
BEGIN:DAYLIGHT
TZNAME:CDT
DTSTART:20260308T020000
TZOFFSETFROM:-0600
TZOFFSETTO:-0500
RDATE:20270314T020000
RDATE:20280312T020000
END:DAYLIGHT
END:VTIMEZONE
BEGIN:VEVENT
UID:d783b717-584b-4996-8c3b-bff2a684a4bc
DTSTAMP:20260425T115022Z
DESCRIPTION:Simchat Torah celebrates the conclusion of the yearly cycle of 
 reading the Five Books of Moses and its beginning anew\, thus demonstratin
 g that study is a never-ending process.
DTSTART;TZID=America/Chicago:20261003T185700
DTEND;TZID=America/Chicago:20261004T185600
LOCATION:
SUMMARY:Simchat Torah
END:VEVENT
END:VCALENDAR
