BEGIN:VCALENDAR
VERSION:2.0
PRODID:-//jcrbajc.org//NONSGML kigkonsult.se iCalcreator 2.30.10//
CALSCALE:GREGORIAN
METHOD:PUBLISH
UID:685f258f-c44a-4d77-8ce7-a1ede27c2ed6
X-WR-CALDESC:
X-WR-RELCALID:e2751f008f8101118e5268ad75739141
X-WR-TIMEZONE:America/Chicago
BEGIN:VTIMEZONE
TZID:America/Chicago
BEGIN:STANDARD
TZNAME:CST
DTSTART:20261101T020000
TZOFFSETFROM:-0500
TZOFFSETTO:-0600
RDATE:20271107T020000
END:STANDARD
BEGIN:DAYLIGHT
TZNAME:CDT
DTSTART:20260308T020000
TZOFFSETFROM:-0600
TZOFFSETTO:-0500
RDATE:20270314T020000
RDATE:20280312T020000
END:DAYLIGHT
END:VTIMEZONE
BEGIN:VEVENT
UID:e646c17f-3fe4-4e83-938f-e539019d4f55
DTSTAMP:20260425T132131Z
DESCRIPTION:
DTSTART;TZID=America/Chicago:20261126T050000
DTEND;TZID=America/Chicago:20261127T050001
LOCATION:
SUMMARY:Thanksgiving Day
END:VEVENT
END:VCALENDAR
