BEGIN:VCALENDAR
VERSION:2.0
PRODID:-//jcrbajc.org//NONSGML kigkonsult.se iCalcreator 2.30.10//
CALSCALE:GREGORIAN
METHOD:PUBLISH
UID:ba3e4c61-cc1a-4a40-9849-60a2c91fcfcb
X-WR-CALDESC:
X-WR-RELCALID:b8aa4b409e3607d7ba03b501df8f8076
X-WR-TIMEZONE:America/Chicago
BEGIN:VTIMEZONE
TZID:America/Chicago
BEGIN:STANDARD
TZNAME:CST
DTSTART:20261101T020000
TZOFFSETFROM:-0500
TZOFFSETTO:-0600
RDATE:20271107T020000
END:STANDARD
BEGIN:DAYLIGHT
TZNAME:CDT
DTSTART:20260308T020000
TZOFFSETFROM:-0600
TZOFFSETTO:-0500
RDATE:20270314T020000
RDATE:20280312T020000
END:DAYLIGHT
END:VTIMEZONE
BEGIN:VEVENT
UID:3d0a0df6-ba4d-416b-b84b-d9d8ee6be826
DTSTAMP:20260425T132609Z
DESCRIPTION:
DTSTART;TZID=America/Chicago:20261127T050000
DTEND;TZID=America/Chicago:20261128T050001
LOCATION:
SUMMARY:Friday after Thanksgiving
END:VEVENT
END:VCALENDAR
