BEGIN:VCALENDAR
VERSION:2.0
PRODID:-//jcrbajc.org//NONSGML kigkonsult.se iCalcreator 2.30.10//
CALSCALE:GREGORIAN
METHOD:PUBLISH
UID:81626d45-b381-4d43-81bf-e11f9b325829
X-WR-CALDESC:
X-WR-RELCALID:6e00af84f5e5afed1d62519718a559bf
X-WR-TIMEZONE:America/Chicago
BEGIN:VTIMEZONE
TZID:America/Chicago
BEGIN:STANDARD
TZNAME:CST
DTSTART:20261101T020000
TZOFFSETFROM:-0500
TZOFFSETTO:-0600
RDATE:20271107T020000
END:STANDARD
BEGIN:DAYLIGHT
TZNAME:CDT
DTSTART:20260308T020000
TZOFFSETFROM:-0600
TZOFFSETTO:-0500
RDATE:20270314T020000
RDATE:20280312T020000
END:DAYLIGHT
END:VTIMEZONE
BEGIN:VEVENT
UID:7533dd8c-48db-4176-b675-8490262ecfa7
DTSTAMP:20260425T152109Z
DESCRIPTION:
DTSTART;TZID=America/Chicago:20261225T050000
DTEND;TZID=America/Chicago:20261226T050001
LOCATION:
SUMMARY:Christmas Day
END:VEVENT
END:VCALENDAR
