BEGIN:VCALENDAR
VERSION:2.0
PRODID:-//jcrbajc.org//NONSGML kigkonsult.se iCalcreator 2.30.10//
CALSCALE:GREGORIAN
METHOD:PUBLISH
UID:957e1b28-e99b-4a76-8c65-2e324ab32b0e
X-WR-CALDESC:
X-WR-RELCALID:afecb7ce2264bac288ea8a2c0e2bfc98
X-WR-TIMEZONE:America/Chicago
BEGIN:VTIMEZONE
TZID:America/Chicago
BEGIN:STANDARD
TZNAME:CST
DTSTART:20261101T020000
TZOFFSETFROM:-0500
TZOFFSETTO:-0600
RDATE:20271107T020000
END:STANDARD
BEGIN:DAYLIGHT
TZNAME:CDT
DTSTART:20260308T020000
TZOFFSETFROM:-0600
TZOFFSETTO:-0500
RDATE:20270314T020000
RDATE:20280312T020000
END:DAYLIGHT
END:VTIMEZONE
BEGIN:VEVENT
UID:df3bc771-ade2-4247-8ff4-a305922b91cf
DTSTAMP:20260425T162115Z
DESCRIPTION:
DTSTART;TZID=America/Chicago:20270118T050000
DTEND;TZID=America/Chicago:20270119T050001
LOCATION:
SUMMARY:MLK Jr.\, Day
END:VEVENT
END:VCALENDAR
