BEGIN:VCALENDAR
VERSION:2.0
PRODID:-//jcrbajc.org//NONSGML kigkonsult.se iCalcreator 2.30.10//
CALSCALE:GREGORIAN
METHOD:PUBLISH
UID:d9d53657-a296-424c-9fc0-21758b6b37d9
X-WR-CALDESC:A joyous festival commemorating the time when the Jews of anci
 ent Persia were saved from extermination through the intervention of Queen
  Esther.
X-WR-RELCALID:3a2f1f5790aea2209eb0362d560e4696
X-WR-TIMEZONE:America/Chicago
BEGIN:VTIMEZONE
TZID:America/Chicago
BEGIN:STANDARD
TZNAME:CST
DTSTART:20261101T020000
TZOFFSETFROM:-0500
TZOFFSETTO:-0600
RDATE:20271107T020000
END:STANDARD
BEGIN:DAYLIGHT
TZNAME:CDT
DTSTART:20270314T020000
TZOFFSETFROM:-0600
TZOFFSETTO:-0500
RDATE:20280312T020000
END:DAYLIGHT
END:VTIMEZONE
BEGIN:VEVENT
UID:e9bfd43d-fe8c-405f-bc9e-050662703dd5
DTSTAMP:20260425T185424Z
DESCRIPTION:A joyous festival commemorating the time when the Jews of ancie
 nt Persia were saved from extermination through the intervention of Queen 
 Esther.
DTSTART;TZID=America/Chicago:20270322T193200
DTEND;TZID=America/Chicago:20270323T193300
LOCATION:
SUMMARY:Purim
END:VEVENT
END:VCALENDAR
