BEGIN:VCALENDAR
VERSION:2.0
PRODID:-//jcrbajc.org//NONSGML kigkonsult.se iCalcreator 2.30.10//
CALSCALE:GREGORIAN
METHOD:PUBLISH
UID:1d224306-189c-439c-92a5-05ca2815a221
X-WR-CALDESC:Passover (Seders - first two evenings): Festival of Freedom\nT
 he Seder is a family ritual service that occurs on the first two evenings 
 of Passover. Students should not be expected to prepare assignments or for
  exams on these nights. The first two and last two days of Passover are ho
 ly days\, when students and staff may be absent. Passover celebrates the l
 iberation of the Jews from Egyptian bondage. During this eight-day holiday
 \, many Jews refrain from eating bread products and eat matzah (unleavened
  bread) instead.
X-WR-RELCALID:da91b710c617a9df288be13ef65f2692
X-WR-TIMEZONE:America/Chicago
BEGIN:VTIMEZONE
TZID:America/Chicago
BEGIN:STANDARD
TZNAME:CST
DTSTART:20261101T020000
TZOFFSETFROM:-0500
TZOFFSETTO:-0600
RDATE:20271107T020000
END:STANDARD
BEGIN:DAYLIGHT
TZNAME:CDT
DTSTART:20270314T020000
TZOFFSETFROM:-0600
TZOFFSETTO:-0500
RDATE:20280312T020000
END:DAYLIGHT
END:VTIMEZONE
BEGIN:VEVENT
UID:86f84a61-3a81-4550-998a-8400c86b1b8b
DTSTAMP:20260425T202227Z
DESCRIPTION:Passover (Seders - first two evenings): Festival of Freedom\nTh
 e Seder is a family ritual service that occurs on the first two evenings o
 f Passover. Students should not be expected to prepare assignments or for 
 exams on these nights. The first two and last two days of Passover are hol
 y days\, when students and staff may be absent. Passover celebrates the li
 beration of the Jews from Egyptian bondage. During this eight-day holiday\
 , many Jews refrain from eating bread products and eat matzah (unleavened 
 bread) instead.
DTSTART;TZID=America/Chicago:20270421T200100
DTEND;TZID=America/Chicago:20270423T200300
LOCATION:
SUMMARY:Passover (first two days)
END:VEVENT
END:VCALENDAR
