BEGIN:VCALENDAR
VERSION:2.0
PRODID:-//jcrbajc.org//NONSGML kigkonsult.se iCalcreator 2.30.10//
CALSCALE:GREGORIAN
METHOD:PUBLISH
UID:74799b04-9d41-4867-a260-b66cad427d9f
X-WR-CALDESC:Passover is an eight day holiday that commemorates the emancip
 ation of the Israelites from slavery in ancient Egypt. Passover is observe
 d by avoiding leaven\, and highlighted by the Seder meals that include fou
 r cups of wine\, eating matzah and bitter herbs\, and retelling the story 
 of the Exodus.
X-WR-RELCALID:ed6799ce6616a7963e299c8f11de3193
X-WR-TIMEZONE:America/Chicago
BEGIN:VTIMEZONE
TZID:America/Chicago
BEGIN:STANDARD
TZNAME:CST
DTSTART:20261101T020000
TZOFFSETFROM:-0500
TZOFFSETTO:-0600
RDATE:20271107T020000
END:STANDARD
BEGIN:DAYLIGHT
TZNAME:CDT
DTSTART:20270314T020000
TZOFFSETFROM:-0600
TZOFFSETTO:-0500
RDATE:20280312T020000
END:DAYLIGHT
END:VTIMEZONE
BEGIN:VEVENT
UID:f877a964-ffaa-4cf3-87e1-86ce4cf76517
DTSTAMP:20260425T202946Z
DESCRIPTION:Passover is an eight day holiday that commemorates the emancipa
 tion of the Israelites from slavery in ancient Egypt. Passover is observed
  by avoiding leaven\, and highlighted by the Seder meals that include four
  cups of wine\, eating matzah and bitter herbs\, and retelling the story o
 f the Exodus.
DTSTART;TZID=America/Chicago:20270421T200100
DTEND;TZID=America/Chicago:20270429T200900
LOCATION:
SUMMARY:Passover
END:VEVENT
END:VCALENDAR
