BEGIN:VCALENDAR
VERSION:2.0
PRODID:-//jcrbajc.org//NONSGML kigkonsult.se iCalcreator 2.30.10//
CALSCALE:GREGORIAN
METHOD:PUBLISH
UID:9f8ef7ff-85cc-44c9-91fc-19c0c92ae453
X-WR-CALDESC:The last two days of Passover conclude the celebration of Pass
 over.
X-WR-RELCALID:2a82ca9f47176d60ae29dc3bac72bb15
X-WR-TIMEZONE:America/Chicago
BEGIN:VTIMEZONE
TZID:America/Chicago
BEGIN:STANDARD
TZNAME:CST
DTSTART:20261101T020000
TZOFFSETFROM:-0500
TZOFFSETTO:-0600
RDATE:20271107T020000
END:STANDARD
BEGIN:DAYLIGHT
TZNAME:CDT
DTSTART:20270314T020000
TZOFFSETFROM:-0600
TZOFFSETTO:-0500
RDATE:20280312T020000
END:DAYLIGHT
END:VTIMEZONE
BEGIN:VEVENT
UID:d994c1ab-13ae-44ff-ac56-c4003155427f
DTSTAMP:20260425T201907Z
DESCRIPTION:The last two days of Passover conclude the celebration of Passo
 ver.
DTSTART;TZID=America/Chicago:20270427T200700
DTEND;TZID=America/Chicago:20270429T200900
LOCATION:
SUMMARY:Passover (last two days)
END:VEVENT
END:VCALENDAR
