BEGIN:VCALENDAR
VERSION:2.0
PRODID:-//jcrbajc.org//NONSGML kigkonsult.se iCalcreator 2.30.10//
CALSCALE:GREGORIAN
METHOD:PUBLISH
UID:62366090-3e32-4929-8f5a-14c207e4149e
X-WR-CALDESC:Tisha B’Av is the major day of communal mourning in the Jewish
  calendar commemorating the destruction of the First and Second Temples in
  Jerusalem.
X-WR-RELCALID:7e951d008308c222b448594d5ccfe079
X-WR-TIMEZONE:America/Chicago
BEGIN:VTIMEZONE
TZID:America/Chicago
BEGIN:STANDARD
TZNAME:CST
DTSTART:20261101T020000
TZOFFSETFROM:-0500
TZOFFSETTO:-0600
RDATE:20271107T020000
RDATE:20281105T020000
END:STANDARD
BEGIN:DAYLIGHT
TZNAME:CDT
DTSTART:20270314T020000
TZOFFSETFROM:-0600
TZOFFSETTO:-0500
RDATE:20280312T020000
END:DAYLIGHT
END:VTIMEZONE
BEGIN:VEVENT
UID:e74f89c3-746e-4ff1-8413-85b21e244fee
DTSTAMP:20260426T004719Z
DESCRIPTION:Tisha B’Av is the major day of communal mourning in the Jewish 
 calendar commemorating the destruction of the First and Second Temples in 
 Jerusalem.
DTSTART;TZID=America/Chicago:20270722T203800
DTEND;TZID=America/Chicago:20270723T203700
LOCATION:
SUMMARY:Tisha B'Av
END:VEVENT
END:VCALENDAR
